{
 "currentVersion":11.1,
 "serviceDescription":"",
 "mapName":"Couches",
 "description":"",
 "copyrightText":"",
 "supportsDynamicLayers":true,
 "layers":
  [
  ],
 "tables":
  [
  ],
 "spatialReference":
  {
   "wkid":3944,
   "latestWkid":3944
  },
 "singleFusedMapCache":true,
 "tileInfo":
  {
   "rows":256,
   "cols":256,
   "dpi":96,
   "format":"JPEG",
   "compressionQuality":75,
   "origin":
    {
     "x":1746780,
     "y":3244239
    },
   "spatialReference":
    {
     "wkid":3944,
     "latestWkid":3944
    },
   "lods":
    [
       {
        "level":0,
        "resolution":52.91677250021167,
        "scale":200000
       },
       {
        "level":1,
        "resolution":26.458386250105836,
        "scale":100000
       },
       {
        "level":2,
        "resolution":13.229193125052918,
        "scale":50000
       },
       {
        "level":3,
        "resolution":6.614596562526459,
        "scale":25000
       },
       {
        "level":4,
        "resolution":2.6458386250105836,
        "scale":10000
       },
       {
        "level":5,
        "resolution":1.3229193125052918,
        "scale":5000
       },
       {
        "level":6,
        "resolution":0.5291677250021167,
        "scale":2000
       },
       {
        "level":7,
        "resolution":0.26458386250105836,
        "scale":1000
       }
    ]
  },
 "initialExtent":
  {
   "xmin":1746727.4603860788,
   "ymin":3196667.0707611525,
   "xmax":1831341.3796139173,
   "ymax":3244239.249238843,
   "spatialReference":
    {
     "wkid":3944,
     "latestWkid":3944
    }
  },
 "fullExtent":
  {
   "xmin":1747838.7126085833,
   "ymin":3196667.0707611525,
   "xmax":1830230.1273914129,
   "ymax":3244239.249238843,
   "spatialReference":
    {
     "wkid":3944,
     "latestWkid":3944
    }
  },
 "minScale":200000,
 "maxScale":1000,
 "units":"esriMeters",
 "supportedImageFormatTypes":"PNG32,PNG24,PNG,JPG,DIB,TIFF,EMF,PS,PDF,GIF,SVG,SVGZ,BMP",
 "documentInfo":
  {
   "Title":"",
   "Author":"",
   "Comments":"",
   "Subject":"",
   "Category":"",
   "Version":"10.1",
   "AntialiasingMode":"None",
   "TextAntialiasingMode":"Force",
   "Keywords":""
  },
 "capabilities":"Map,Query,Data",
 "supportedQueryFormats":"JSON,PBF",
 "exportTilesAllowed":false,
 "maxRecordCount":1000,
 "maxImageHeight":4096,
 "maxImageWidth":4096,
 "supportedExtensions":"WMSServer",
 "cimVersion":"3.1.0",
 "storageInfo":
  {
   "storageFormat":"esriMapCacheStorageModeCompactV2",
   "packetSize":128
  },
 "datesInUnknownTimezone":false,
 "minLOD":0,
 "maxLOD":7,
 "referenceScale":0,
 "supportsDatumTransformation":true,
 "archivingInfo":
  {
   "supportsHistoricMoment":false
  },
 "supportsClipping":true,
 "supportsSpatialFilter":true,
 "supportsTimeRelation":true,
 "supportsQueryDataElements":true,
 "mapUnits":
  {
   "uwkid":9001
  },
 "serviceItemId":"ca24dfc232794a3eb2e4837a909d8d19"
}