{
 "currentVersion": 11.1,
 "cimVersion": "3.1.0",
 "serviceDescription": "",
 "mapName": "Couches",
 "description": "",
 "copyrightText": "",
 "supportsDynamicLayers": true,
 "layers": [],
 "tables": [],
 "spatialReference": {
  "wkid": 3944,
  "latestWkid": 3944,
  "xyTolerance": 0.001,
  "zTolerance": 0.001,
  "mTolerance": 0.001,
  "falseX": -34843700,
  "falseY": -26729000,
  "xyUnits": 1.2323874231045283E8,
  "falseZ": -100000,
  "zUnits": 10000,
  "falseM": -100000,
  "mUnits": 10000
 },
 "singleFusedMapCache": true,
 "tileInfo": {
  "rows": 256,
  "cols": 256,
  "dpi": 96,
  "format": "JPEG",
  "compressionQuality": 85,
  "origin": {
   "x": 1747014,
   "y": 3244280
  },
  "spatialReference": {
   "wkid": 3944,
   "latestWkid": 3944,
   "xyTolerance": 0.001,
   "zTolerance": 0.001,
   "mTolerance": 0.001,
   "falseX": -34843700,
   "falseY": -26729000,
   "xyUnits": 1.2323874231045283E8,
   "falseZ": -100000,
   "zUnits": 10000,
   "falseM": -100000,
   "mUnits": 10000
  },
  "lods": [
   {
    "level": 0,
    "resolution": 66.1459656252646,
    "scale": 250000
   },
   {
    "level": 1,
    "resolution": 52.91677250021167,
    "scale": 200000
   },
   {
    "level": 2,
    "resolution": 26.458386250105836,
    "scale": 100000
   },
   {
    "level": 3,
    "resolution": 13.229193125052918,
    "scale": 50000
   },
   {
    "level": 4,
    "resolution": 6.614596562526459,
    "scale": 25000
   },
   {
    "level": 5,
    "resolution": 2.6458386250105836,
    "scale": 10000
   },
   {
    "level": 6,
    "resolution": 1.9843789687579376,
    "scale": 7500
   },
   {
    "level": 7,
    "resolution": 1.3229193125052918,
    "scale": 5000
   },
   {
    "level": 8,
    "resolution": 0.5291677250021167,
    "scale": 2000
   },
   {
    "level": 9,
    "resolution": 0.26458386250105836,
    "scale": 1000
   }
  ]
 },
 "storageInfo": {
  "storageFormat": "esriMapCacheStorageModeCompactV2",
  "packetSize": 128
 },
 "initialExtent": {
  "xmin": 1746946.8867890814,
  "ymin": 3195931.930950768,
  "xmax": 1833071.240117382,
  "ymax": 3244347.4196474436,
  "spatialReference": {
   "wkid": 3944,
   "latestWkid": 3944,
   "xyTolerance": 0.001,
   "zTolerance": 0.001,
   "mTolerance": 0.001,
   "falseX": -34843700,
   "falseY": -26729000,
   "xyUnits": 1.2323874231045283E8,
   "falseZ": -100000,
   "zUnits": 10000,
   "falseM": -100000,
   "mUnits": 10000
  }
 },
 "fullExtent": {
  "xmin": 1747838.7126085833,
  "ymin": 3196667.0707611525,
  "xmax": 1830230.1273914129,
  "ymax": 3244239.249238843,
  "spatialReference": {
   "wkid": 3944,
   "latestWkid": 3944,
   "xyTolerance": 0.001,
   "zTolerance": 0.001,
   "mTolerance": 0.001,
   "falseX": -34843700,
   "falseY": -26729000,
   "xyUnits": 1.2323874231045283E8,
   "falseZ": -100000,
   "zUnits": 10000,
   "falseM": -100000,
   "mUnits": 10000
  }
 },
 "datesInUnknownTimezone": false,
 "minScale": 250000,
 "maxScale": 1000,
 "minLOD": 0,
 "maxLOD": 9,
 "units": "esriMeters",
 "supportedImageFormatTypes": "PNG32,PNG24,PNG,JPG,DIB,TIFF,EMF,PS,PDF,GIF,SVG,SVGZ,BMP",
 "documentInfo": {
  "Title": "",
  "Author": "",
  "Comments": "",
  "Subject": "",
  "Category": "",
  "Version": "10.1",
  "AntialiasingMode": "None",
  "TextAntialiasingMode": "Force",
  "Keywords": ""
 },
 "capabilities": "Map,Query,Data",
 "supportedQueryFormats": "JSON, geoJSON, PBF",
 "exportTilesAllowed": false,
 "referenceScale": 0.0,
 "datumTransformations": [
  {
   "geoTransforms": [
    {
     "wkid": 108470,
     "latestWkid": 15958,
     "transformForward": false,
     "name": "RGF_1993_To_NTF_NTv2"
    }
   ]
  },
  {
   "geoTransforms": [
    {
     "wkid": 108470,
     "latestWkid": 15958,
     "transformForward": true,
     "name": "RGF_1993_To_NTF_NTv2"
    }
   ]
  }
 ],
 "supportsDatumTransformation": true,
 "archivingInfo": {
  "supportsHistoricMoment": false
 },
 "supportsClipping": true,
 "supportsSpatialFilter": true,
 "supportsTimeRelation": true,
 "supportsQueryDataElements": true,
 "mapUnits": {
  "uwkid": 9001
 },
 "maxRecordCount": 1000,
 "maxImageHeight": 4096,
 "maxImageWidth": 4096,
 "supportedExtensions": "WMSServer",
 "serviceItemId": "f05d254b05784d4693a38c9672447a97"
}
