{
 "currentVersion": 11.1,
 "cimVersion": "3.1.0",
 "serviceDescription": "",
 "mapName": "Couches",
 "description": "",
 "copyrightText": "",
 "supportsDynamicLayers": true,
 "layers": [
  {
   "id": 0,
   "name": "photo_drone_verger.jpg",
   "parentLayerId": -1,
   "defaultVisibility": true,
   "subLayerIds": null,
   "minScale": 0,
   "maxScale": 0,
   "type": "Raster Layer",
   "supportsDynamicLegends": true
  }
 ],
 "tables": [],
 "spatialReference": {
  "wkid": 3944,
  "latestWkid": 3944,
  "xyTolerance": 0.001,
  "zTolerance": 0.001,
  "mTolerance": 0.001,
  "falseX": -34843700,
  "falseY": -26729000,
  "xyUnits": 1.2323874231045283E8,
  "falseZ": -100000,
  "zUnits": 10000,
  "falseM": -100000,
  "mUnits": 10000
 },
 "singleFusedMapCache": true,
 "tileInfo": {
  "rows": 256,
  "cols": 256,
  "dpi": 96,
  "format": "JPEG",
  "compressionQuality": 85,
  "origin": {
   "x": -34843700,
   "y": 46358400
  },
  "spatialReference": {
   "wkid": 3944,
   "latestWkid": 3944,
   "xyTolerance": 0.001,
   "zTolerance": 0.001,
   "mTolerance": 0.001,
   "falseX": -34843700,
   "falseY": -26729000,
   "xyUnits": 1.2323874231045283E8,
   "falseZ": -100000,
   "zUnits": 10000,
   "falseM": -100000,
   "mUnits": 10000
  },
  "lods": [
   {
    "level": 0,
    "resolution": 0.5291677250021167,
    "scale": 2000
   },
   {
    "level": 1,
    "resolution": 0.26458386250105836,
    "scale": 1000
   },
   {
    "level": 2,
    "resolution": 0.13229193125052918,
    "scale": 500
   },
   {
    "level": 3,
    "resolution": 0.06614596562526459,
    "scale": 250
   },
   {
    "level": 4,
    "resolution": 0.033072982812632296,
    "scale": 125
   },
   {
    "level": 5,
    "resolution": 0.015875031750063502,
    "scale": 60
   }
  ]
 },
 "storageInfo": {
  "storageFormat": "esriMapCacheStorageModeCompactV2",
  "packetSize": 128
 },
 "initialExtent": {
  "xmin": 1790844.0237359416,
  "ymin": 3206239.1571259648,
  "xmax": 1791267.0933320809,
  "ymax": 3206477.0180183533,
  "spatialReference": {
   "wkid": 3944,
   "latestWkid": 3944,
   "xyTolerance": 0.001,
   "zTolerance": 0.001,
   "mTolerance": 0.001,
   "falseX": -34843700,
   "falseY": -26729000,
   "xyUnits": 1.2323874231045283E8,
   "falseZ": -100000,
   "zUnits": 10000,
   "falseM": -100000,
   "mUnits": 10000
  }
 },
 "fullExtent": {
  "xmin": 1790896.666741728,
  "ymin": 3206266.278658205,
  "xmax": 1791214.4503262946,
  "ymax": 3206449.980504252,
  "spatialReference": {
   "wkid": 3944,
   "latestWkid": 3944,
   "xyTolerance": 0.001,
   "zTolerance": 0.001,
   "mTolerance": 0.001,
   "falseX": -34843700,
   "falseY": -26729000,
   "xyUnits": 1.2323874231045283E8,
   "falseZ": -100000,
   "zUnits": 10000,
   "falseM": -100000,
   "mUnits": 10000
  }
 },
 "datesInUnknownTimezone": false,
 "minScale": 2000,
 "maxScale": 60,
 "minLOD": 0,
 "maxLOD": 5,
 "units": "esriMeters",
 "supportedImageFormatTypes": "PNG32,PNG24,PNG,JPG,DIB,TIFF,EMF,PS,PDF,GIF,SVG,SVGZ,BMP",
 "documentInfo": {
  "Title": "",
  "Author": "",
  "Comments": "",
  "Subject": "",
  "Category": "",
  "Version": "10.1",
  "AntialiasingMode": "None",
  "TextAntialiasingMode": "Force",
  "Keywords": ""
 },
 "capabilities": "Map,Query,Data",
 "supportedQueryFormats": "JSON, geoJSON, PBF",
 "exportTilesAllowed": false,
 "referenceScale": 0.0,
 "supportsDatumTransformation": true,
 "archivingInfo": {
  "supportsHistoricMoment": false
 },
 "supportsClipping": true,
 "supportsSpatialFilter": true,
 "supportsTimeRelation": true,
 "supportsQueryDataElements": true,
 "mapUnits": {
  "uwkid": 9001
 },
 "maxRecordCount": 1000,
 "maxImageHeight": 4096,
 "maxImageWidth": 4096,
 "supportedExtensions": "",
 "serviceItemId": "5bee3bd468ff4fb1aff3ea2af72971d6"
}
