{
 "currentVersion": 11.1,
 "cimVersion": "3.1.0",
 "serviceDescription": "Fon de plan aquarelle pour la story Map de la Maison de la figue",
 "mapName": "Couches",
 "description": "",
 "copyrightText": "Alès Agglomération",
 "supportsDynamicLayers": true,
 "layers": [
  {
   "id": 0,
   "name": "aquarelle.jpg",
   "parentLayerId": -1,
   "defaultVisibility": true,
   "subLayerIds": null,
   "minScale": 0,
   "maxScale": 0,
   "type": "Raster Layer",
   "supportsDynamicLegends": true
  }
 ],
 "tables": [],
 "spatialReference": {
  "wkid": 3944,
  "latestWkid": 3944,
  "xyTolerance": 0.001,
  "zTolerance": 0.001,
  "mTolerance": 0.001,
  "falseX": -34843700,
  "falseY": -26729000,
  "xyUnits": 1.2323874231045283E8,
  "falseZ": -100000,
  "zUnits": 10000,
  "falseM": -100000,
  "mUnits": 10000
 },
 "singleFusedMapCache": true,
 "tileInfo": {
  "rows": 256,
  "cols": 256,
  "dpi": 96,
  "format": "PNG",
  "compressionQuality": 0,
  "origin": {
   "x": 1790697,
   "y": 3206758
  },
  "spatialReference": {
   "wkid": 3944,
   "latestWkid": 3944,
   "xyTolerance": 0.001,
   "zTolerance": 0.001,
   "mTolerance": 0.001,
   "falseX": -34843700,
   "falseY": -26729000,
   "xyUnits": 1.2323874231045283E8,
   "falseZ": -100000,
   "zUnits": 10000,
   "falseM": -100000,
   "mUnits": 10000
  },
  "lods": [
   {
    "level": 0,
    "resolution": 0.6614596562526459,
    "scale": 2500
   },
   {
    "level": 1,
    "resolution": 0.5291677250021167,
    "scale": 2000
   },
   {
    "level": 2,
    "resolution": 0.39687579375158755,
    "scale": 1500
   },
   {
    "level": 3,
    "resolution": 0.26458386250105836,
    "scale": 1000
   },
   {
    "level": 4,
    "resolution": 0.13229193125052918,
    "scale": 500
   },
   {
    "level": 5,
    "resolution": 0.06614596562526459,
    "scale": 250
   }
  ]
 },
 "storageInfo": {
  "storageFormat": "esriMapCacheStorageModeCompactV2",
  "packetSize": 128
 },
 "initialExtent": {
  "xmin": 1791120.7479762563,
  "ymin": 3206204.008193464,
  "xmax": 1791329.1077679757,
  "ymax": 3206719.285265685,
  "spatialReference": {
   "wkid": 3944,
   "latestWkid": 3944,
   "xyTolerance": 0.001,
   "zTolerance": 0.001,
   "mTolerance": 0.001,
   "falseX": -34843700,
   "falseY": -26729000,
   "xyUnits": 1.2323874231045283E8,
   "falseZ": -100000,
   "zUnits": 10000,
   "falseM": -100000,
   "mUnits": 10000
  }
 },
 "fullExtent": {
  "xmin": -0.5,
  "ymin": -2444.5,
  "xmax": 3319.5,
  "ymax": 0.5,
  "spatialReference": {
   "wkid": 3944,
   "latestWkid": 3944,
   "xyTolerance": 0.001,
   "zTolerance": 0.001,
   "mTolerance": 0.001,
   "falseX": -34843700,
   "falseY": -26729000,
   "xyUnits": 1.2323874231045283E8,
   "falseZ": -100000,
   "zUnits": 10000,
   "falseM": -100000,
   "mUnits": 10000
  }
 },
 "datesInUnknownTimezone": false,
 "minScale": 2500,
 "maxScale": 250,
 "minLOD": 0,
 "maxLOD": 5,
 "units": "esriMeters",
 "supportedImageFormatTypes": "PNG32,PNG24,PNG,JPG,DIB,TIFF,EMF,PS,PDF,GIF,SVG,SVGZ,BMP",
 "documentInfo": {
  "Title": "",
  "Author": "",
  "Comments": "Fon de plan aquarelle pour la story Map de la Maison de la figue",
  "Subject": "Fon de plan aquarelle pour la story Map de la Maison de la figue",
  "Category": "",
  "Version": "10.1",
  "AntialiasingMode": "None",
  "TextAntialiasingMode": "Force",
  "Keywords": "GP"
 },
 "capabilities": "Map,Query,Data",
 "supportedQueryFormats": "JSON, geoJSON, PBF",
 "exportTilesAllowed": false,
 "referenceScale": 0.0,
 "supportsDatumTransformation": true,
 "archivingInfo": {
  "supportsHistoricMoment": false
 },
 "supportsClipping": true,
 "supportsSpatialFilter": true,
 "supportsTimeRelation": true,
 "supportsQueryDataElements": true,
 "mapUnits": {
  "uwkid": 9001
 },
 "maxRecordCount": 1000,
 "maxImageHeight": 4096,
 "maxImageWidth": 4096,
 "supportedExtensions": "",
 "resampling": false,
 "serviceItemId": "6133ca5f13ea41c8b62c973ad90654ca"
}
